BEGIN:VCALENDAR
VERSION:2.0
PRODID:-//Multaka//NONSGML Kalender//EN
CALSCALE:GREGORIAN
X-WR-CALNAME:Multaka - Kalender
X-ORIGINAL-URL:https://multaka.de/events/event/
X-WR-CALDESC:Multaka - Kalender
BEGIN:VEVENT
UID:20200203T2142Z-1580766132.8717-EO-1844-1@82.165.86.3
STATUS:CONFIRMED
DTSTAMP:20260420T044001Z
CREATED:20200203T125027Z
LAST-MODIFIED:20200203T125408Z
DTSTART;TZID=Europe/Berlin:20200307T140000
DTEND;TZID=Europe/Berlin:20200307T180000
SUMMARY: Berlin sagt Danke! mit Multaka: Treffpunkt Museum
DESCRIPTION: Berlin sagt Danke!  und Multaka: Treffpunkt Museum ist wieder 
 dabei! Am 07. März 2020 beteiligen sich mehr als achtzig Orte an der berlin
 weiten Aktion „Berlin sagt Danke!“. Damit soll allen Berlinerinnen und Berl
 inern Dankeschön gesagt werden\, die sich sozial\, politisch oder kulturell
  für ein diverses Berlin engagieren. Sie machen Berlin zu einer Stadt\, in 
 der Menschen... Mehr erfahren
X-ALT-DESC;FMTTYPE=text/html: <p><strong><span class="_5afx"><span class="_
 58cm">Berlin sagt Danke</span></span>!  und <span class="_5afx"><span class
 ="_58cm">Multaka</span></span>: Treffpunkt Museum ist wieder dabei!</strong
 ></p><p>Am 07. März 2020 beteiligen sich mehr als achtzig Orte an der berli
 nweiten Aktion „Berlin sagt Danke!“. Damit soll allen Berlinerinnen und Ber
 linern Dankeschön gesagt werden\, die sich sozial\, politisch oder kulturel
 l für ein diverses Berlin engagieren. Sie machen Berlin zu einer Stadt\, in
  der Menschen aus aller Welt willkommen sind und füreinander einstehen und 
 wir - die Multakis - sagen DANKE!</p><p>Die Staat<span class="text_exposed_
 show">lichen Museen zu Berlin</span><span class="text_exposed_show"> und Mu
 ltaka: Treffpunkt Museum sind an dem Aktionstag beteiligt: Unsere Guides au
 s Syrien und Irak führen in deutscher Sprache durch zwei Museen. Den Besuch
 erinnen und Besuchern werden in dem Rundgang syrische und irakische Kulturg
 üter als herausragende Zeugnisse der Menschheitsgeschichte vorgestellt. Der
  Einsatz dialogischer Methoden ermöglicht eine aktive Einbeziehung der Besu
 cherInnen und fördert den Austausch der Teilnehmer untereinander.</span></p
 ><div class="text_exposed_show"><p><strong>Veranstaltungsorte:</strong></p>
 <p><strong>Bode-Museum</strong></p><ul><li>Führungen (Deutsch) für Erwachse
 ne durch die Skulpturensammlung und Museum für Byzantinische Kunst // 14 - 
 15 Uhr und 16 - 17 Uhr mit unseren Guides Mariam Bachi und Kenan Melhem</li
 ></ul><p><strong>Pergamonmuseum</strong></p><ul><li>Führungen (Deutsch) für
  Erwachsene im Museum für Islamische Kunst // 14 - 15 Uhr und 16 - 17 Uhr m
 it unseren Guides Razan Nassreddine und Alaa Alkassir</li><li>Führungen (De
 utsch) für Erwachsene im Vorderasiatischen Museum // 14 - 15 Uhr und 16 - 1
 7 Uhr mit unseren Guide Alan Diko und Bachar Shahin</li></ul><p>Der Eintrit
 t und die Teilnahme an den Führungen sind anlässlich des Aktionstags „Berli
 n sagt Danke!“ kostenfrei. Die Teilnehmerzahl ist begrenzt. Treffpunkte sin
 d die Kassen der beteiligten Museen. Eine Anmeldung ist nicht erforderlich.
 </p><p><strong>Unsere Guides freuen sich auf euch!</strong></p><p>Das ganze
  Programm <a href="https://www.berlin.de/berlin-sagt-danke/aktionstag/">hie
 r</a>.</p></div>
CATEGORIES:Führung im Bode Museum,Führung im Vorderasiatischen Museum,Führung Museum für Islamische Kunst
LOCATION:Museum für Islamische Kunst
GEO:0;0
ORGANIZER;CN="Cornelia Weber":MAILTO:corneliaweber1@web.de
URL;VALUE=URI:https://multaka.de/events/event/berlin-sagt-danke-mit-multaka
 -treffpunkt-museum/
END:VEVENT
BEGIN:VEVENT
UID:20170905T0024Z-1504571086.8754-EO-311-1@217.160.62.36
STATUS:CONFIRMED
DTSTAMP:20260420T044001Z
CREATED:20170220T153858Z
LAST-MODIFIED:20230331T153702Z
DTSTART;TZID=Europe/Berlin:20211010T160000
DTEND;TZID=Europe/Berlin:20211010T170000
RRULE:FREQ=WEEKLY;INTERVAL=1;BYDAY=SU;UNTIL=20231217T150000Z
EXDATE;TZID=Europe/Berlin:20171227T160000,20171223T160000,20171230T160000,20191228T160000,20220102T160000,20211226T160000
RDATE;TZID=Europe/Berlin:20211010T160000,20211017T160000
SUMMARY: Führung ISL
DESCRIPTION: Multaka stellt vor: Museum für Islamische Kunst im Pergamonmus
 eum Die monumentale Fassade des Kalifenpalasts von Mschatta\, das reich bem
 alte Zimmer aus Aleppo\, die berühmte Alhambra- Kuppel und weitere Kunstob
 jekte\, die aus Islamisch geprägten Gesellschaften stammen\, erwarten euch
  in diesem einzigartigen Museum. Kostenfreie Führungen auf Arabisch und Far
 si jeden Sonntag um 16:00! Gruppenführungen auf Englisch und... Mehr erfahr
 en
X-ALT-DESC;FMTTYPE=text/html: <p><strong>Multaka stellt vor: Museum für Isl
 amische Kunst im Pergamonmuseum </strong></p><p>Die monumentale Fassade des
  Kalifenpalasts von Mschatta\, das reich bemalte Zimmer aus Aleppo\, die be
 rühmte Alhambra- Kuppel und weitere Kunstobjekte\, die aus Islamisch gepra
 ̈gten Gesellschaften stammen\, erwarten euch in diesem einzigartigen Museum
 .</p><p>Kostenfreie Führungen auf Arabisch und Farsi jeden Sonntag um 16:00
 ! Gruppenführungen auf Englisch und Deutsch auf Anfrage buchbar.</p><p><str
 ong>Für die Anmeldung größerer Gruppen sowie englisch- oder deutschsprachig
 er Führungen kontaktieren Sie uns bitte: info@multaka.de oder 0176 34 17 69
  98.</strong></p>
CATEGORIES:Führung Museum für Islamische Kunst
LOCATION:Museum für Islamische Kunst
GEO:0;0
ORGANIZER;CN="Cornelia Weber":MAILTO:corneliaweber1@web.de
URL;VALUE=URI:https://multaka.de/events/event/museum-islamische-kunst/
END:VEVENT
BEGIN:VEVENT
UID:20190429T2238Z-1556577538.69-EO-1785-1@82.165.86.3
STATUS:CONFIRMED
DTSTAMP:20260420T044001Z
CREATED:20190429T140114Z
LAST-MODIFIED:20220822T100018Z
DTSTART;TZID=Europe/Berlin:20220827T210000
DTEND;TZID=Europe/Berlin:20220827T213000
SUMMARY: Lange Nacht der Berliner Museen
DESCRIPTION: Im Rahmen der 40. Langen Nacht der Berliner Museen am 27.08.20
 22 führen Euch unsere Multaka-Guides auf Arabisch und Persisch durch das Pe
 rgamonmuseum. Unsere dialogischen Führungen setzen sich mit der Geschichte 
 der Objekte vor dem Hintergrund aktueller Debatten auseinander. Ziel ist es
  Verbindungen zwischen verschiedenen Zeiten und Orten erlebbar zu machen\, 
 dabei werden transkulturelle Bewegungen aufgezeigt... Mehr erfahren
X-ALT-DESC;FMTTYPE=text/html: <div class="kvgmc6g5 cxmmr5t8 oygrvhab hcukyx
 3x c1et5uql">Im Rahmen der 40. Langen Nacht der Berliner Museen am 27.08.20
 22 führen Euch unsere Multaka-Guides auf Arabisch und Persisch durch das Pe
 rgamonmuseum.</div><div class="cxmmr5t8 oygrvhab hcukyx3x c1et5uql o9v6fnle
 ">Unsere dialogischen Führungen setzen sich mit der Geschichte der Objekte 
 vor dem Hintergrund aktueller Debatten auseinander. Ziel ist es Verbindunge
 n zwischen verschiedenen Zeiten und Orten erlebbar zu machen\, dabei werden
  transkulturelle Bewegungen aufgezeigt sowie verschiedenste Perspektiven er
 fahrbar gemacht.</div><div></div><div class="cxmmr5t8 oygrvhab hcukyx3x c1e
 t5uql o9v6fnle"><strong>Treffpunkt:</strong></div><div class="cxmmr5t8 oygr
 vhab hcukyx3x c1et5uql o9v6fnle">Die Guides warten auf Euch im oberen Foyer
  der James-Simon-Galerie am Infotresen. Haltet bitte Ausschau nach dem gelb
 en Multaka Schild!</div><div></div><div class="cxmmr5t8 oygrvhab hcukyx3x c
 1et5uql o9v6fnle"><strong>Zeitplan:</strong><br />• 21:00 Uhr: Kurzführung 
 im Museum für Islamische Kunst / Arabisch<br />• 21:00 Uhr: Kurzführung im 
 Museum für Islamische Kunst / Persisch</div>
CATEGORIES:Führung Museum für Islamische Kunst
LOCATION:Museum für Islamische Kunst
GEO:0;0
ORGANIZER;CN="Cornelia Weber":MAILTO:corneliaweber1@web.de
URL;VALUE=URI:https://multaka.de/events/event/lange-nacht-der-berliner-muse
 en-mit-multaka/
END:VEVENT
BEGIN:VEVENT
UID:20170905T0024Z-1504571086.8866-EO-312-1@217.160.62.36
STATUS:CONFIRMED
DTSTAMP:20260420T044001Z
CREATED:20170220T154424Z
LAST-MODIFIED:20230331T154037Z
DTSTART;TZID=Europe/Berlin:20230108T160000
DTEND;TZID=Europe/Berlin:20230108T170000
RRULE:FREQ=WEEKLY;INTERVAL=1;BYDAY=SU;UNTIL=20231217T150000Z
EXDATE;TZID=Europe/Berlin:20171227T160000,20171230T160000,20171223T160000,20191228T160000,20220102T160000,20211226T160000
SUMMARY: Führung VaM
DESCRIPTION: Multaka stellt vor: Das Vorderasiatische Museum im Pergamonmus
 eum Bestaunt die Prozessionsstraße von Babylon\, das farbenprächtige Ischt
 ar-Tor und Funde\, die 6.000 Jahre Kunst- und Kulturgeschichte aus Mesopota
 mien\, Syrien und Anatolien repräsentieren. Kostenfreie Führungen auf Arab
 isch und Farsi jeden Sonntag um 16:00! Gruppenführungen auf Englisch und De
 utsch auf Anfrage buchbar. Für die Anmeldung größerer Gruppen sowie englisc
 h-... Mehr erfahren
X-ALT-DESC;FMTTYPE=text/html: <p><strong>Multaka stellt vor: Das Vorderasia
 tische Museum im Pergamonmuseum</strong></p><p>Bestaunt die Prozessionsstra
 ße von Babylon\, das farbenprächtige Ischtar-Tor und Funde\, die 6.000 Jah
 re Kunst- und Kulturgeschichte aus Mesopotamien\, Syrien und Anatolien repr
 äsentieren.</p><p>Kostenfreie Führungen auf Arabisch und Farsi jeden Sonnt
 ag um 16:00! Gruppenführungen auf Englisch und Deutsch auf Anfrage buchbar.
 </p><p><strong>Für die Anmeldung größerer Gruppen sowie englisch- oder deut
 schsprachiger Führungen kontaktieren Sie uns bitte: info@multaka.de oder 01
 76 34 17 69 98.</strong></p>
CATEGORIES:Führung im Vorderasiatischen Museum
LOCATION:Vorderasiatisches Museum
GEO:52.521187;13.396945
ORGANIZER;CN="Cornelia Weber":MAILTO:corneliaweber1@web.de
URL;VALUE=URI:https://multaka.de/events/event/vorderasiatisches-museum/
END:VEVENT
BEGIN:VEVENT
UID:20210514T2229Z-1621031381.1386-EO-17428-1@82.165.86.3
STATUS:CONFIRMED
DTSTAMP:20260420T044001Z
CREATED:20210514T144554Z
LAST-MODIFIED:20230517T082537Z
DTSTART;TZID=Europe/Berlin:20230519T153000
DTEND;TZID=Europe/Berlin:20230520T163000
SUMMARY: Workshop „Message in the Material – Painting on Glass“
DESCRIPTION: Berlin Glas e.V. &#038\; Multaka: Treffpunkt Museum Message in
  the Material – Painting on Glass 19.-20.05.2023 Freitag\, 19. Mai – 15:30 
 Museumsführung in der Sonderausstellung „Fortschritt als Versprechen – Indu
 striefotografie im geteilten Deutschland“ (Deutsches Historisches Museum) S
 amstag\, 20. Mai – 11:00 Uhr Glasworkshop bei Berlin Glas e.V. (Provinzstra
 ße 42a 13409 Berlin) Die Teilnehmerzahl ist auf... Mehr erfahren
X-ALT-DESC;FMTTYPE=text/html: <p><strong>Berlin Glas e.V. & Multaka: Treffp
 unkt Museum</strong><br /><strong>Message in the Material - Painting on Gla
 ss</strong><br /><strong>19.-20.05.2023</strong></p><ul><li>Freitag\, 19. M
 ai - 15:30 Museumsführung in der Sonderausstellung „<a href="https://www.dh
 m.de/ausstellungen/fortschritt-als-versprechen-industriefotografie-im-getei
 lten-deutschland/#/" target="_blank" rel="noopener">Fortschritt als Verspre
 chen – Industriefotografie im geteilten Deutschland</a>“ (Deutsches Histori
 sches Museum)</li><li>Samstag\, 20. Mai - 11:00 Uhr Glasworkshop bei Berlin
  Glas e.V. (Provinzstraße 42a 13409 Berlin)</li></ul><p>Die Teilnehmerzahl 
 ist auf 10 Personen beschränkt. Dieser KOSTENLOSE Workshop gilt nach dem Pr
 inzip „Wer zuerst kommt\, mahlt zuerst“! Um sich anzumelden\, sendet uns ei
 ne E-Mail an: <a href="mailto:info@multaka.de">info@multaka.de</a></p><p>Es
  beginnt am 19. Mai im Deutschen Historischen Museum\, wo wir durch die Wec
 hselausstellung Industriefotografie im geteilten Deutschland touren. Die Au
 sstellung zeigt Fotografien\, die zwischen 1949 und 1990 für Industrieunter
 nehmen in Ost- und Westdeutschland entstanden sind. Die Ausstellung legt di
 e mit den historischen Bildquellen verbundenen Ideen offen und zeigt Unters
 chiede und Gemeinsamkeiten zwischen Ost und West in ihren Fortschrittsdarst
 ellungen auf. Doch welche Rolle spielt das Material bei der Vermittlung der
  Botschaft?</p><p>Das Programm geht am nächsten Tag\, dem 20. Mai\, im Berl
 iner Glasatelier weiter\, wo uns <a href="http://www.jeffxzimmer.com" targe
 t="_blank" rel="noopener">Jeff Zimmer</a> das Malen auf Glas beibringen wir
 d. Fotografie und Text sind ein wichtiger Aspekt von Jeffs Arbeiten\, und w
 ir freuen uns darauf\, gemeinsam mehr über seine Praxis zu erfahren und ein
 e spannende Technik zu erlernen!</p><p>Jeff ist ein in Edinburgh ansässiger
  Künstler mit über 20 Jahren Erfahrung in der Arbeit mit Bildern auf Glas. 
 Seine Werke befinden sich in verschiedenen internationalen Museumssammlunge
 n. Er gewann die British Glass Biennale 2019 und den zweiten Preis des Cobu
 rger Preises 2014 für zeitgenössisches Glas. Jeff hat unter anderem am Edin
 burgh College of Art\, Pilchuck Glass School (USA)\, North Lands Creative G
 lass (Schottland)\, Bild-Werk Frauenau (Deutschland)\, Berlin Glas\, Urban 
 Glass (Brooklyn) gelehrt. Er kombiniert Techniken der Glasmalerei\, des Las
 erätzens\, der zeitgenössischen Beleuchtung und der Transparenz von Glas\, 
 um dynamische Szenen zu schaffen\, die sich je nach Position des Betrachter
 s zu verschieben\, aufzulösen und zu verwandeln scheinen. Jeff ist auch Mit
 begründer des Glass Lab Edinburgh.</p>
CATEGORIES:Workshop
ORGANIZER;CN="Cornelia Weber":MAILTO:corneliaweber1@web.de
URL;VALUE=URI:https://multaka.de/events/event/workshops/
END:VEVENT
BEGIN:VEVENT
UID:20240307T0109Z-1709773755.7773-EO-21695-1@82.165.86.3
STATUS:CONFIRMED
DTSTAMP:20260420T044001Z
CREATED:20240306T121814Z
LAST-MODIFIED:20240731T130058Z
DTSTART;TZID=Europe/Berlin:20240407T160000
DTEND;TZID=Europe/Berlin:20240407T170000
RRULE:FREQ=WEEKLY;INTERVAL=1;BYDAY=SU;UNTIL=20240519T140000Z
SUMMARY: Multaka Weltkulturerbeführung
DESCRIPTION: Multaka meets UNESCO-World Heritage Mit der Multaka Weltkultur
 erbeführung wird die Berliner Museumsinsel für Besuchende zu einem lebendig
 en Ort des Austauschs und der Begegnung. Kommt mit uns auf eine Zeitreise d
 urch die Geschichte der Museumsinsel und lernt mehr über dessen historische
  Entstehungszeit. Die interaktive Führung lädt dazu ein\, die UNESCO Weltku
 lturerbestätte aus ganz unterschiedlichen Perspektiven kennenzulernen... Me
 hr erfahren
X-ALT-DESC;FMTTYPE=text/html: <p><strong>Multaka <em>meets</em> UNESCO-Worl
 d Heritage</strong></p><p>Mit der Multaka Weltkulturerbeführung wird die Be
 rliner Museumsinsel für Besuchende zu einem lebendigen Ort des Austauschs u
 nd der Begegnung. Kommt mit uns auf eine Zeitreise durch die Geschichte der
  Museumsinsel und lernt mehr über dessen historische Entstehungszeit. Die i
 nteraktive Führung lädt dazu ein\, die UNESCO Weltkulturerbestätte aus ganz
  unterschiedlichen Perspektiven kennenzulernen und der Frage nach der Bedeu
 tung von Welterbe für uns heute nachzugehen.</p>
LOCATION:Museuminsel
GEO:52.520007;13.404954
ORGANIZER;CN="Pooneh Yekta":MAILTO:p.yekta@smb.spk-berlin.de
URL;VALUE=URI:https://multaka.de/events/event/multaka-weltkulturerbefuehrun
 g/
END:VEVENT
BEGIN:VEVENT
UID:20240522T1215Z-1716380103.9101-EO-21722-1@82.165.86.3
STATUS:CONFIRMED
DTSTAMP:20260420T044001Z
CREATED:20240522T111920Z
LAST-MODIFIED:20250318T113633Z
DTSTART;TZID=Europe/Berlin:20240519T160000
DTEND;TZID=Europe/Berlin:20240519T170000
RRULE:FREQ=WEEKLY;INTERVAL=1;BYDAY=SU;UNTIL=20250518T140000Z
SUMMARY: Führung AM
DESCRIPTION: Der Besuch der Antikensammlung lädt Dich dazu ein\, die Kultur
 geschichte der Griechen\, Etrusker und Römer näher kennenzulernen. Du triff
 st auf Höhepunkte antiker Kunst\, römische Götterstatuen\, tauchst ein in d
 ie Welt der griechischen Mythologie und erlebst Alltagsleben in der klassis
 chen Metropole Athen. Dabei schlagen wir einen Bogen zwischen Vergangenheit
  und Gegenwart und gehen der Frage nach\,... Mehr erfahren
X-ALT-DESC;FMTTYPE=text/html: <p>Der Besuch der Antikensammlung lädt Dich d
 azu ein\, die Kulturgeschichte der Griechen\, Etrusker und Römer näher kenn
 enzulernen. Du triffst auf Höhepunkte antiker Kunst\, römische Götterstatue
 n\, tauchst ein in die Welt der griechischen Mythologie und erlebst Alltags
 leben in der klassischen Metropole Athen. Dabei schlagen wir einen Bogen zw
 ischen Vergangenheit und Gegenwart und gehen der Frage nach\, welchen Einfl
 uss die griechische Antike auf unser Leben bis heute hat.</p>
CATEGORIES:Führung im Alten Museum
LOCATION:Altes Museum
GEO:52.520007;13.404954
ORGANIZER;CN="Pooneh Yekta":MAILTO:p.yekta@smb.spk-berlin.de
URL;VALUE=URI:https://multaka.de/events/event/fuehrung-am/
END:VEVENT
BEGIN:VEVENT
UID:20240522T1215Z-1716380103.917-EO-21724-1@82.165.86.3
STATUS:CONFIRMED
DTSTAMP:20260420T044001Z
CREATED:20240522T112506Z
LAST-MODIFIED:20250319T110437Z
DTSTART;TZID=Europe/Berlin:20240519T160000
DTEND;TZID=Europe/Berlin:20240519T170000
RRULE:FREQ=WEEKLY;INTERVAL=1;BYDAY=SU;UNTIL=20250518T140000Z
SUMMARY: Fühurng NM
DESCRIPTION: Im Neuen Museum erwarten Dich zwei Sammlungen. Das Ägyptische 
 Museum und Papyrussammlung eröffnet Einblick in Kontinuität und Wandel der 
 altägyptischen Kultur über vier Jahrtausende sowie in die Kulturgeschichte 
 des antiken Sudan. Das Museum für Vor- und Frühgeschichte stellt archäologi
 sche Exponate aus ganz Europa und Teilen Asiens aus\, die die Kulturgeschic
 hte jener Regionen von der Steinzeit... Mehr erfahren
X-ALT-DESC;FMTTYPE=text/html: <p>Im Neuen Museum erwarten Dich zwei Sammlun
 gen. Das Ägyptische Museum und Papyrussammlung eröffnet Einblick in Kontinu
 ität und Wandel der altägyptischen Kultur über vier Jahrtausende sowie in d
 ie Kulturgeschichte des antiken Sudan. Das Museum für Vor- und Frühgeschich
 te stellt archäologische Exponate aus ganz Europa und Teilen Asiens aus\, d
 ie die Kulturgeschichte jener Regionen von der Steinzeit bis zum Mittelalte
 r vorführen. Kommt vorbei und seid bei dieser faszinierenden Zeitreise dabe
 i.</p>
CATEGORIES:Führung NM
LOCATION:Neues Museum
GEO:52.520007;13.404954
ORGANIZER;CN="Pooneh Yekta":MAILTO:p.yekta@smb.spk-berlin.de
URL;VALUE=URI:https://multaka.de/events/event/fuehurng-nm/
END:VEVENT
BEGIN:VEVENT
UID:20170905T0024Z-1504571086.8987-EO-314-1@217.160.62.36
STATUS:CONFIRMED
DTSTAMP:20260420T044001Z
CREATED:20170220T155845Z
LAST-MODIFIED:20240820T135226Z
DTSTART;TZID=Europe/Berlin:20240602T160000
DTEND;TZID=Europe/Berlin:20240602T180000
EXDATE;TZID=Europe/Berlin:20171230T160000,20171223T160000,20171227T160000,20191228T160000,20220102T160000,20211226T160000,20220904T160000,20220911T160000,20221225T160000,20230101T160000
RDATE;TZID=Europe/Berlin:20240811T160000,20240825T160000,20240908T160000,20240929T160000,20241013T160000,20241027T160000,20241110T160000,20241124T160000,20241208T160000,20241229T160000,20250112T160000
SUMMARY: Führung DHM
DESCRIPTION: Kostenlose Führungen jeden Sonntag um 16 Uhr auf Arabisch und 
 Farsi.  Für die Anmeldung größerer Gruppen sowie englisch- oder deutschspra
 chiger Führungen kontaktieren Sie uns bitte: info@multaka.de oder 0176 34 1
 7 69 98. Multaka bietet Führungen auf Arabisch und Farsi durch die neue Aus
 stellung “Rein ins Gemälde” an. Während der Führung werden wir Gemälde aus 
 dem... Mehr erfahren
X-ALT-DESC;FMTTYPE=text/html: <p><strong>Kostenlose Führungen jeden Sonntag
  um 16 Uhr auf Arabisch und Farsi. </strong></p><p><strong>Für die Anmeldun
 g größerer Gruppen sowie englisch- oder deutschsprachiger Führungen kontakt
 ieren Sie uns bitte: info@multaka.de oder 0176 34 17 69 98.</p><p></strong>
 </p><p>Multaka bietet Führungen auf Arabisch und Farsi durch die neue Ausst
 ellung “Rein ins Gemälde” an. Während der Führung werden wir Gemälde aus de
 m 16. Jahrhundert aus Augsburg entdecken und für Kinder auf einfache und ve
 rständliche Weise Themen wie soziale Unterschiede\, Handel\, Lebensmittel u
 nd Natur diskutieren. Wir werden ebenfalls die in der Ausstellung vorgestel
 lten Spiele und Aktivitäten ausprobieren. Die Kinder erhalten so einen Einb
 lick in diese Themen\, erfahren\, wie sich das Leben seither verändert hat\
 , und erkunden diese Themen gemeinsam mit ihren Eltern in einer lebendigen 
 Atmosphäre der Ausstellung.</p>
CATEGORIES:Führung im Deutschen Historischen Museum
LOCATION:Deutsches Historisches Museum - Pei-Bau
GEO:0;0
ORGANIZER;CN="Cornelia Weber":MAILTO:corneliaweber1@web.de
URL;VALUE=URI:https://multaka.de/events/event/deutsches-historisches-museum
 /
END:VEVENT
BEGIN:VEVENT
UID:20240821T1131Z-1724239877.1627-EO-21779-1@82.165.86.3
STATUS:CONFIRMED
DTSTAMP:20260420T044001Z
CREATED:20240821T091027Z
LAST-MODIFIED:20240821T091027Z
DTSTART;TZID=Europe/Berlin:20240824T184500
DTEND;TZID=Europe/Berlin:20240824T194500
SUMMARY: Lange Nacht der Museen 2024
DESCRIPTION: Rein ins Gemälde Zeitplan: 18:45 – 19:00 19:00 – 19:15 19:30 –
  19:45 Auf Arabisch und Persisch
X-ALT-DESC;FMTTYPE=text/html: <p>Rein ins Gemälde</p><p>Zeitplan:</p><p>18:
 45 - 19:00</p><p>19:00 - 19:15</p><p>19:30 - 19:45</p><p>Auf Arabisch und P
 ersisch</p>
LOCATION:Deutsches Historisches Museum - Pei-Bau
GEO:0;0
ORGANIZER;CN="Pooneh Yekta":MAILTO:p.yekta@smb.spk-berlin.de
URL;VALUE=URI:https://multaka.de/events/event/lange-nacht-der-museen-2024-2
 /
END:VEVENT
BEGIN:VEVENT
UID:20240821T1131Z-1724239877.1703-EO-21773-1@82.165.86.3
STATUS:CONFIRMED
DTSTAMP:20260420T044001Z
CREATED:20240821T090114Z
LAST-MODIFIED:20240821T090114Z
DTSTART;TZID=Europe/Berlin:20240824T190000
DTEND;TZID=Europe/Berlin:20240824T210000
SUMMARY: Lange Nacht der Museen 2024
DESCRIPTION: Genießen Sie die besondere Atmosphäre und entdecken Sie die Mu
 seen in einem neuen Licht mit Multaka-Führungen auf Persisch und Arabisch i
 n der langen Nacht der Museen. Wo? Altes Museum – Treffpunkt am Infoschalte
 r Wann? Samstag\, 24.08.2024 19:00 Uhr Führung auf Arabisch 20:00 Uhr Führu
 ng auf Persisch Für wen? Für alle Persisch- und Arabischsprachigen\, die si
 ch... Mehr erfahren
X-ALT-DESC;FMTTYPE=text/html: <p>Genießen Sie die besondere Atmosphäre und 
 entdecken Sie die Museen in einem neuen Licht mit Multaka-Führungen auf Per
 sisch und Arabisch in der langen Nacht der Museen.</p><p>Wo? Altes Museum –
  Treffpunkt am Infoschalter</p><p>Wann? Samstag\, 24.08.2024</p><p>19:00 Uh
 r Führung auf Arabisch</p><p>20:00 Uhr Führung auf Persisch</p><p>Für wen? 
 Für alle Persisch- und Arabischsprachigen\, die sich für Museen interessier
 en.</p><p>Dauer? 60 Min.</p>
LOCATION:Altes Museum
GEO:52.520007;13.404954
ORGANIZER;CN="Pooneh Yekta":MAILTO:p.yekta@smb.spk-berlin.de
URL;VALUE=URI:https://multaka.de/events/event/lange-nacht-der-museen-2024/
END:VEVENT
BEGIN:VEVENT
UID:20170905T0024Z-1504571086.8926-EO-313-1@217.160.62.36
STATUS:CONFIRMED
DTSTAMP:20260420T044001Z
CREATED:20170220T155740Z
LAST-MODIFIED:20250701T101603Z
DTSTART;TZID=Europe/Berlin:20250112T160000
DTEND;TZID=Europe/Berlin:20250112T170000
RRULE:FREQ=WEEKLY;INTERVAL=1;BYDAY=SU;UNTIL=20250629T140000Z
EXDATE;TZID=Europe/Berlin:20171230T160000,20171223T160000,20171227T160000,20191228T160000,20220102T160000,20211226T160000
SUMMARY: Führung BM
DESCRIPTION: Multaka stellt vor: Skulpturensammlung und Museum für Byzantin
 ische Kunst im Bode-Museum Komm vorbei und erlebe eine Zeitreise von der Sp
 ätantike bis zur Islamischen Zeit und entdecke Objekte vom östlichen Mitte
 lmeerraum bis zum Norden Afrikas. Kostenfreie Führungen auf Arabisch und Fa
 rsi jeden Sonntag um 16:00! Gruppenführungen auf Englisch und Deutsch auf A
 nfrage buchbar. Für die Anmeldung... Mehr erfahren
X-ALT-DESC;FMTTYPE=text/html: <p><b>Multaka stellt vor: Skulpturensammlung 
 und Museum für Byzantinische Kunst im Bode-Museum</b></p><p>Komm vorbei und
  erlebe eine Zeitreise von der Spätantike bis zur Islamischen Zeit und entd
 ecke Objekte vom östlichen Mittelmeerraum bis zum Norden Afrikas.</p><p>Ko
 stenfreie Führungen auf Arabisch und Farsi jeden Sonntag um 16:00! Gruppenf
 ührungen auf Englisch und Deutsch auf Anfrage buchbar.</p><p><strong>Für di
 e Anmeldung größerer Gruppen sowie englisch- oder deutschsprachiger Führung
 en kontaktieren Sie uns bitte: info@multaka.de oder 0176 34 17 69 98.</stro
 ng></p><p> </p>
CATEGORIES:Führung im Bode Museum
LOCATION:Bode-Museum
GEO:52.521980;13.394279
ORGANIZER;CN="Cornelia Weber":MAILTO:corneliaweber1@web.de
URL;VALUE=URI:https://multaka.de/events/event/bode-museum/
END:VEVENT
BEGIN:VEVENT
UID:20251103T1731Z-1762191077.684-EO-22009-1@82.165.86.3
STATUS:CONFIRMED
DTSTAMP:20260420T044001Z
CREATED:20251103T120146Z
LAST-MODIFIED:20251103T120146Z
DTSTART;TZID=Europe/Berlin:20251205T093000
DTEND;TZID=Europe/Berlin:20251206T140000
SUMMARY: Multaka 10th Anniversary!
DESCRIPTION: Reflecting the Future Multaka 10th Anniversary: Learning from 
 the Past\, Envisioning the Future Multaka Berlin turns 10! Together with ou
 r co-host Multaka Oxford\, we’re celebrating a decade of shared stories\, l
 earning\, and connection with the support of the Alwaleed Cultural Network.
  Join us for a special two-day Event on December 5–6\, 2025\, at the Centre
 ... Mehr erfahren
X-ALT-DESC;FMTTYPE=text/html: <h2>Reflecting the Future</h2><p>Multaka 10th
  Anniversary: Learning from the Past\, Envisioning the Future</p><p>Multaka
  Berlin turns 10! Together with our co-host Multaka Oxford\, we’re celebrat
 ing a decade of shared stories\, learning\, and connection with the support
  of the Alwaleed Cultural Network. Join us for a special two-day Event on D
 ecember 5–6\, 2025\, at the Centre for Cultural Education – Haus Bastian\, 
 right at the heart of Museum Island.</p><p>What can you explore?<br />Over 
 the two days you will experience:</p><ul><li>In-depth 90-minute workshops e
 xploring the impactful legacies of our international Multaka Network partne
 rs from Berlin\, Florence\, Oxford\, Turin\, and Zaragoza\,</li><li>A vibra
 nt panel discussion highlighting shifting perspectives in community & cultu
 ral sectors\,</li><li>Multaka tours across Museum Island\, led by Berlin gu
 ides\, bringing different voices and personal insights.</li></ul><p>This an
 niversary is not just a celebration – it’s a moment to pause\, reflect\, an
 d imagine what lies ahead.</p><p><a href="https://www.smb.museum/museen-ein
 richtungen/museumsinsel-berlin/veranstaltungen/detail/reflecting-the-future
 -2025-12-05-093000-154708/">Register your place to secure your attendance.<
 /a> We can’t wait to welcome you!</p>
LOCATION:Haus Bastian – Zentrum für kulturelle Bildung
GEO:0;0
ORGANIZER;CN="Pooneh Yekta":MAILTO:p.yekta@smb.spk-berlin.de
URL;VALUE=URI:https://multaka.de/events/event/multaka-10th-anniversary-2/
END:VEVENT
BEGIN:VTIMEZONE
TZID:Europe/Berlin
BEGIN:STANDARD
TZOFFSETFROM:+0200
TZOFFSETTO:+0100
DTSTART:20191027T010000
TZNAME:CET
END:STANDARD
BEGIN:DAYLIGHT
TZOFFSETFROM:+0100
TZOFFSETTO:+0200
DTSTART:20200329T010000
TZNAME:CEST
END:DAYLIGHT
BEGIN:STANDARD
TZOFFSETFROM:+0200
TZOFFSETTO:+0100
DTSTART:20201025T010000
TZNAME:CET
END:STANDARD
BEGIN:DAYLIGHT
TZOFFSETFROM:+0100
TZOFFSETTO:+0200
DTSTART:20210328T010000
TZNAME:CEST
END:DAYLIGHT
BEGIN:STANDARD
TZOFFSETFROM:+0200
TZOFFSETTO:+0100
DTSTART:20211031T010000
TZNAME:CET
END:STANDARD
BEGIN:DAYLIGHT
TZOFFSETFROM:+0100
TZOFFSETTO:+0200
DTSTART:20220327T010000
TZNAME:CEST
END:DAYLIGHT
BEGIN:STANDARD
TZOFFSETFROM:+0200
TZOFFSETTO:+0100
DTSTART:20221030T010000
TZNAME:CET
END:STANDARD
BEGIN:DAYLIGHT
TZOFFSETFROM:+0100
TZOFFSETTO:+0200
DTSTART:20230326T010000
TZNAME:CEST
END:DAYLIGHT
BEGIN:STANDARD
TZOFFSETFROM:+0200
TZOFFSETTO:+0100
DTSTART:20231029T010000
TZNAME:CET
END:STANDARD
BEGIN:DAYLIGHT
TZOFFSETFROM:+0100
TZOFFSETTO:+0200
DTSTART:20240331T010000
TZNAME:CEST
END:DAYLIGHT
BEGIN:STANDARD
TZOFFSETFROM:+0200
TZOFFSETTO:+0100
DTSTART:20241027T010000
TZNAME:CET
END:STANDARD
BEGIN:DAYLIGHT
TZOFFSETFROM:+0100
TZOFFSETTO:+0200
DTSTART:20250330T010000
TZNAME:CEST
END:DAYLIGHT
BEGIN:STANDARD
TZOFFSETFROM:+0200
TZOFFSETTO:+0100
DTSTART:20251026T010000
TZNAME:CET
END:STANDARD
END:VTIMEZONE
END:VCALENDAR
